BEGIN:VCALENDAR
VERSION:2.0
PRODID:-//Broad Brook Coalition - ECPv6.13.2.1//NONSGML v1.0//EN
CALSCALE:GREGORIAN
METHOD:PUBLISH
X-WR-CALNAME:Broad Brook Coalition
X-ORIGINAL-URL:https://www.broadbrookcoalition.org
X-WR-CALDESC:Events for Broad Brook Coalition
REFRESH-INTERVAL;VALUE=DURATION:PT1H
X-Robots-Tag:noindex
X-PUBLISHED-TTL:PT1H
BEGIN:VTIMEZONE
TZID:America/New_York
BEGIN:DAYLIGHT
TZOFFSETFROM:-0500
TZOFFSETTO:-0400
TZNAME:EDT
DTSTART:20260308T070000
END:DAYLIGHT
BEGIN:STANDARD
TZOFFSETFROM:-0400
TZOFFSETTO:-0500
TZNAME:EST
DTSTART:20261101T060000
END:STANDARD
END:VTIMEZONE
BEGIN:VEVENT
DTSTART;TZID=America/New_York:20260503T100000
DTEND;TZID=America/New_York:20260503T120000
DTSTAMP:20260423T055536
CREATED:20260419T002424Z
LAST-MODIFIED:20260419T002424Z
UID:3571-1777802400-1777809600@www.broadbrookcoalition.org
SUMMARY:A Wildlife Search at FLCA
DESCRIPTION:Join wildlife ecologist and author of “America is Wild!” Brad Timm as we take a leisurely stroll looking and listening for a wide diversity of animals that live in the Fitzgerald Lake Conservation Area. We’ll look under logs for salamanders and other critters\, keep our ears and eyes peeled for birds all around us\, keep an eye out for evidence of different mammals (e.g.\, tracks\, feeding evidence\, scat\, etc.)\, and much more! And we’ll learn fun facts about many of these animals we come across. All ages are welcome and encouraged to join! Copies of “America is Wild!” will be available for purchase ($20)\, and Brad is more than happy to sign them as well.
URL:https://www.broadbrookcoalition.org/event/a-wildlife-search-at-flca/
LOCATION:North Farms Road entrance to FLCA\, 61 North Farms Road\, northampton\, MA\, 01060\, United States
CATEGORIES:Walk/Talk
END:VEVENT
BEGIN:VEVENT
DTSTART;TZID=America/New_York:20260509T073000
DTEND;TZID=America/New_York:20260509T100000
DTSTAMP:20260423T055536
CREATED:20260419T002611Z
LAST-MODIFIED:20260419T002611Z
UID:3574-1778311800-1778320800@www.broadbrookcoalition.org
SUMMARY:Spring Bird Walk
DESCRIPTION:Lesley Farlow and Steve Winn\, experienced birders and members of the Hampshire Bird Club\, will lead a bird walk along the Marian St. Trail to the bird blind\, along the Boggy Meadow and Pines Edge Trails for a total of about 2 miles. We will look for breeding migrants and resident birds as we pass through a number of different habitats. We should be able to see and hear some migrating warblers\, Wood Thrushes\, and Red-eyed Vireos. We may see Tree Swallows\, Great Blue Herons\, Belted Kingfishers\, and more. We will have a few extra pairs of binoculars\, if needed. Co-sponsored by Hampshire Bird Club. For directions to the Marian St. entrance see broadbrookcoalition.org/about-fitzgerald-lake/how-to-visit.
URL:https://www.broadbrookcoalition.org/event/spring-bird-walk-5/
LOCATION:Marian Street Entrance to FLCA\, 88 Marian Street\, Northampton\, MA\, 01062\, United States
CATEGORIES:Walk/Talk
END:VEVENT
BEGIN:VEVENT
DTSTART;TZID=America/New_York:20260516T090000
DTEND;TZID=America/New_York:20260516T110000
DTSTAMP:20260423T055536
CREATED:20260419T003635Z
LAST-MODIFIED:20260419T003635Z
UID:3589-1778922000-1778929200@www.broadbrookcoalition.org
SUMMARY:Annual Cleanup at the North Farms Road Entrance
DESCRIPTION:This is the day for cleaning up the North Farms Road entrance to the FLCA. We’ll clear winter debris from the path to the bridge and boardwalk\, pick up trash in the parking lot\, and remove by hand invasive plants such as garlic mustard\, Japanese knotweed\, and multiflora rose in the adjoining woods. Please help us spruce up this heavily used route to the conservation area. Tools will be provided. Contact Tom Annese at tannese@northamptonma.gov for further information.
URL:https://www.broadbrookcoalition.org/event/annual-cleanup-at-the-north-farms-road-entrance-3/
LOCATION:North Farms Road entrance to FLCA\, 61 North Farms Road\, northampton\, MA\, 01060\, United States
CATEGORIES:Volunteer/Work day
END:VEVENT
BEGIN:VEVENT
DTSTART;TZID=America/New_York:20260517T133000
DTEND;TZID=America/New_York:20260517T160000
DTSTAMP:20260423T055536
CREATED:20260419T002810Z
LAST-MODIFIED:20260419T002810Z
UID:3576-1779024600-1779033600@www.broadbrookcoalition.org
SUMMARY:Pyrophilous (Fire-loving) Fungi Walk
DESCRIPTION:Peter Russell and Karen Hidalgo from the Pioneer Valley Mycological Association will lead this program focusing on fungi that thrive in burned-over landscapes. We will meet at 1:30 at Laurel Park’s Normal Hall for a talk on fire-loving fungi followed by a walk at 3:00 to the site of the 2024 brush fire near the Swamp Forest Trail in Fitzgerald Lake Conservation Area. The walk will begin at the Marian St. entrance to FLCA. From there it is about a 15-minute walk along Middle Path to the burn site. Co-sponsored by the Pioneer Valley Mycological Association and Broad Brook Coalition. Laurel Park is located off Route 5 in Northampton. For directions to the Marian St. entrance see broadbrookcoalition.org/about-fitzgerald-lake/how-to-visit.
URL:https://www.broadbrookcoalition.org/event/pyrophilous-fire-loving-fungi-walk/
LOCATION:Marian Street Entrance to FLCA\, 88 Marian Street\, Northampton\, MA\, 01062\, United States
CATEGORIES:Walk/Talk
END:VEVENT
BEGIN:VEVENT
DTSTART;TZID=America/New_York:20260523T090000
DTEND;TZID=America/New_York:20260523T110000
DTSTAMP:20260423T055536
CREATED:20260419T002942Z
LAST-MODIFIED:20260419T002942Z
UID:3579-1779526800-1779534000@www.broadbrookcoalition.org
SUMMARY:Spring Nature Walk
DESCRIPTION:Rich Baker\, a conservation biologist and curious naturalist\, will lead a walk focused on the plants and animals we see along our way. We’ll discuss the ecological relationships around us\, share what we know\, and wonder about things we don’t know. There will be spring wildflowers to identify\, trees to marvel at\, birds to find and songs to learn\, as well as the surprises and adventures that nature always provides. Bring binoculars\, if you have some.
URL:https://www.broadbrookcoalition.org/event/spring-nature-walk-2/
LOCATION:North Farms Road entrance to FLCA\, 61 North Farms Road\, northampton\, MA\, 01060\, United States
CATEGORIES:Walk/Talk
END:VEVENT
BEGIN:VEVENT
DTSTART;TZID=America/New_York:20260607T090000
DTEND;TZID=America/New_York:20260607T120000
DTSTAMP:20260423T055536
CREATED:20260419T003804Z
LAST-MODIFIED:20260419T003804Z
UID:3591-1780822800-1780833600@www.broadbrookcoalition.org
SUMMARY:Shrubland Habitat and Native Plants
DESCRIPTION:Several years ago\, we established three “islands” of native shrubs in Cooke’s Pasture to provide food and habitat for shrubland birds and small mammals. We return every year to prune the shrubs\, cut back competing undergrowth\, and replace plants that have not survived the winter. Tools will be provided\, though additional clippers are always welcome. Wear long pants and bring along your favorite insect repellent. Note: The Cooke Ave. parking lot will likely still be closed for construction at this date. You can walk to Cooke’s Pasture from the Marian St. entrance (via Marian St. Trail and Boggy Meadow Rd. to the dam) or from the North Farms Rd. entrance (via the Lake Trail to the dam). We’ll meet at the dam at 9:30\, or in Cooke’s Pasture any time after that.  Contact Tom Annese at tannese@northamptonma.gov for further information.
URL:https://www.broadbrookcoalition.org/event/shrubland-habitat-and-native-plants-2/
CATEGORIES:Volunteer/Work day
END:VEVENT
BEGIN:VEVENT
DTSTART;TZID=America/New_York:20260620T090000
DTEND;TZID=America/New_York:20260620T110000
DTSTAMP:20260423T055536
CREATED:20260419T003934Z
LAST-MODIFIED:20260419T003934Z
UID:3593-1781946000-1781953200@www.broadbrookcoalition.org
SUMMARY:Removal of Water Chestnut from Fitzgerald Lake
DESCRIPTION:Several years ago we implemented a new approach to controlling water chestnut in Fitzgerald Lake called “pull early\, pull often.” In 2017\, we removed roughly 1\,100 lbs. from the lake while in 2025 the yield was down to 260 lbs. Though we are pleased with the results so far\, water chestnut seeds can remain viable for up to ten years on the lake bottom so we plan to continue our work again this year. We’ll organize crews in late May\, begin pulling in mid-June\, and continue at 3-week intervals throughout the summer. Volunteers should bring their own canoes or kayaks. If interested\, contact Tina White by email (broadbrooktreasurer@gmail.com) or phone (413-341-0240) for further information.
URL:https://www.broadbrookcoalition.org/event/removal-of-water-chestnut-from-fitzgerald-lake/
CATEGORIES:Volunteer/Work day
END:VEVENT
BEGIN:VEVENT
DTSTART;TZID=America/New_York:20260627T100000
DTEND;TZID=America/New_York:20260627T120000
DTSTAMP:20260423T055536
CREATED:20260419T003106Z
LAST-MODIFIED:20260419T003106Z
UID:3581-1782554400-1782561600@www.broadbrookcoalition.org
SUMMARY:Learn Your Ferns
DESCRIPTION:Ever wonder if you might be susceptible to fernophilia? Join Randy Stone of the Pioneer Valley Fern Society for a walk through the Fitzgerald Lake Conservation Area\, finding common ferns and club mosses of our area. Learn the key features for easy identification of our “top 10” native ferns and maybe some uncommon ones too. Start creating a list of ferns of Fitzgerald Lake! Bring a hand lens if you have one. Wear clothing appropriate for possible encounters with poison ivy\, insects including ticks\, or muddy ground.
URL:https://www.broadbrookcoalition.org/event/learn-your-ferns-3/
LOCATION:North Farms Road entrance to FLCA\, 61 North Farms Road\, northampton\, MA\, 01060\, United States
CATEGORIES:Walk/Talk
END:VEVENT
BEGIN:VEVENT
DTSTART;TZID=America/New_York:20260711T090000
DTEND;TZID=America/New_York:20260711T110000
DTSTAMP:20260423T055536
CREATED:20260419T004121Z
LAST-MODIFIED:20260419T004121Z
UID:3595-1783760400-1783767600@www.broadbrookcoalition.org
SUMMARY:Removal of Water Chestnut from Fitzgerald Lake
DESCRIPTION:Several years ago we implemented a new approach to controlling water chestnut in Fitzgerald Lake called “pull early\, pull often.” In 2017\, we removed roughly 1\,100 lbs. from the lake while in 2025 the yield was down to 260 lbs. Though we are pleased with the results so far\, water chestnut seeds can remain viable for up to ten years on the lake bottom so we plan to continue our work again this year. We’ll organize crews in late May\, begin pulling in mid-June\, and continue at 3-week intervals throughout the summer. Volunteers should bring their own canoes or kayaks. If interested\, contact Tina White by email (broadbrooktreasurer@gmail.com) or phone (413-341-0240) for further information.
URL:https://www.broadbrookcoalition.org/event/removal-of-water-chestnut-from-fitzgerald-lake-2/
CATEGORIES:Volunteer/Work day
END:VEVENT
BEGIN:VEVENT
DTSTART;TZID=America/New_York:20260725T090000
DTEND;TZID=America/New_York:20260725T110000
DTSTAMP:20260423T055536
CREATED:20260419T004219Z
LAST-MODIFIED:20260419T004219Z
UID:3597-1784970000-1784977200@www.broadbrookcoalition.org
SUMMARY:Removal of Water Chestnut from Fitzgerald Lake
DESCRIPTION:Several years ago we implemented a new approach to controlling water chestnut in Fitzgerald Lake called “pull early\, pull often.” In 2017\, we removed roughly 1\,100 lbs. from the lake while in 2025 the yield was down to 260 lbs. Though we are pleased with the results so far\, water chestnut seeds can remain viable for up to ten years on the lake bottom so we plan to continue our work again this year. We’ll organize crews in late May\, begin pulling in mid-June\, and continue at 3-week intervals throughout the summer. Volunteers should bring their own canoes or kayaks. If interested\, contact Tina White by email (broadbrooktreasurer@gmail.com) or phone (413-341-0240) for further information.
URL:https://www.broadbrookcoalition.org/event/removal-of-water-chestnut-from-fitzgerald-lake-3/
CATEGORIES:Volunteer/Work day
END:VEVENT
BEGIN:VEVENT
DTSTART;TZID=America/New_York:20260815T090000
DTEND;TZID=America/New_York:20260815T110000
DTSTAMP:20260423T055536
CREATED:20260419T004310Z
LAST-MODIFIED:20260419T004310Z
UID:3599-1786784400-1786791600@www.broadbrookcoalition.org
SUMMARY:Removal of Water Chestnut from Fitzgerald Lake
DESCRIPTION:Several years ago we implemented a new approach to controlling water chestnut in Fitzgerald Lake called “pull early\, pull often.” In 2017\, we removed roughly 1\,100 lbs. from the lake while in 2025 the yield was down to 260 lbs. Though we are pleased with the results so far\, water chestnut seeds can remain viable for up to ten years on the lake bottom so we plan to continue our work again this year. We’ll organize crews in late May\, begin pulling in mid-June\, and continue at 3-week intervals throughout the summer. Volunteers should bring their own canoes or kayaks. If interested\, contact Tina White by email (broadbrooktreasurer@gmail.com) or phone (413-341-0240) for further information.
URL:https://www.broadbrookcoalition.org/event/removal-of-water-chestnut-from-fitzgerald-lake-4/
CATEGORIES:Volunteer/Work day
END:VEVENT
BEGIN:VEVENT
DTSTART;TZID=America/New_York:20260829T100000
DTEND;TZID=America/New_York:20260829T120000
DTSTAMP:20260423T055536
CREATED:20260419T003227Z
LAST-MODIFIED:20260419T003227Z
UID:3584-1787997600-1788004800@www.broadbrookcoalition.org
SUMMARY:Late Summer Wildflowers
DESCRIPTION:Hike through cool forest to Fitzgerald Lake\, and explore the meadows at the dam and in Cooke’s Pasture. Identification and interpretation of summer flora and preview of fall asters and goldenrods will be provided. Bring a hand lens and field guide if you have them\, but we will have others to share. We will be walking Boggy Meadow Road\, which may have wet\, muddy patches\, so water-resistant footwear is advised. Insect repellent and tick protection are also recommended. Connie lives in Florence and uses her expertise in plant and soil science in volunteering at Mass Audubon’s Arcadia Wildlife Sanctuary and the Botanic Garden of Smith College.
URL:https://www.broadbrookcoalition.org/event/late-summer-wildflowers/
LOCATION:Cooke Avenue Entrance to FLCA (former Moose Lodge)\, 196 Cooke Avenue\, northampton\, MA\, 01060\, United States
CATEGORIES:Walk/Talk
END:VEVENT
BEGIN:VEVENT
DTSTART;TZID=America/New_York:20260913T090000
DTEND;TZID=America/New_York:20260913T110000
DTSTAMP:20260423T055536
CREATED:20260419T004347Z
LAST-MODIFIED:20260419T004347Z
UID:3601-1789290000-1789297200@www.broadbrookcoalition.org
SUMMARY:Removal of Water Chestnut from Fitzgerald Lake
DESCRIPTION:Several years ago we implemented a new approach to controlling water chestnut in Fitzgerald Lake called “pull early\, pull often.” In 2017\, we removed roughly 1\,100 lbs. from the lake while in 2025 the yield was down to 260 lbs. Though we are pleased with the results so far\, water chestnut seeds can remain viable for up to ten years on the lake bottom so we plan to continue our work again this year. We’ll organize crews in late May\, begin pulling in mid-June\, and continue at 3-week intervals throughout the summer. Volunteers should bring their own canoes or kayaks. If interested\, contact Tina White by email (broadbrooktreasurer@gmail.com) or phone (413-341-0240) for further information.
URL:https://www.broadbrookcoalition.org/event/removal-of-water-chestnut-from-fitzgerald-lake-5/
CATEGORIES:Volunteer/Work day
END:VEVENT
BEGIN:VEVENT
DTSTART;TZID=America/New_York:20260919T100000
DTEND;TZID=America/New_York:20260919T120000
DTSTAMP:20260423T055536
CREATED:20260419T003316Z
LAST-MODIFIED:20260419T003316Z
UID:3587-1789812000-1789819200@www.broadbrookcoalition.org
SUMMARY:The Fungi of Fitzgerald Lake
DESCRIPTION:Join Peter Russell of the Pioneer Valley Mycological Association for another in his walks examining the fungi found in the Fitzgerald Lake Conservation Area. This walk will consider the natural history of the fungi that grow in the FLCA\, in particular their different types of feeding strategies and substrates\, and their associations with the different species of trees. Peter is at work on an illustrated book on the fungi he has found and photographed at Fitzgerald Lake.
URL:https://www.broadbrookcoalition.org/event/the-fungi-of-fitzgerald-lake/
LOCATION:North Farms Road entrance to FLCA\, 61 North Farms Road\, northampton\, MA\, 01060\, United States
CATEGORIES:Walk/Talk
END:VEVENT
END:VCALENDAR